BEGIN:VCALENDAR
VERSION:2.0
PRODID:-//eventon.com NONSGML v1.0//EN
CALSCALE:GREGORIAN
METHOD:PUBLISH
BEGIN:VEVENT
UID:69e600a489d8f
DTSTAMP:20260420T103204Z
DTSTART:20250915
DTEND:20250916
LOCATION:
SUMMARY:ADAC Doc Scholl Bilster Berg
DESCRIPTION:ADAC Doc Scholl Bilster Berg\nhttps://incontro-ducati.de/events
 /adac-doc-scholl-bilster-berg
URL:https://incontro-ducati.de/events/adac-doc-scholl-bilster-berg
END:VEVENT
END:VCALENDAR