BEGIN:VCALENDAR
VERSION:2.0
PRODID:-//eventon.com NONSGML v1.0//EN
CALSCALE:GREGORIAN
METHOD:PUBLISH
BEGIN:VEVENT
UID:69e751b37f107
DTSTAMP:20260421T103011Z
DTSTART:20260628
DTEND:20260629
LOCATION:
SUMMARY:Incontro Tour 2026
DESCRIPTION:mit den Stationen Levico Terme und WDW in Misano Details folgen
  im Januar\nhttps://incontro-ducati.de/events/incontro-tour-2026
URL:https://incontro-ducati.de/events/incontro-tour-2026
END:VEVENT
END:VCALENDAR