BEGIN:VCALENDAR
VERSION:2.0
PRODID:-//eventon.com NONSGML v1.0//EN
CALSCALE:GREGORIAN
METHOD:PUBLISH
BEGIN:VEVENT
UID:69e78314b425c
DTSTAMP:20260421T140052Z
DTSTART:20260509
DTEND:20260510
LOCATION:
SUMMARY:We Ride As One
DESCRIPTION:We Ride As One\nhttps://incontro-ducati.de/events/we-ride-as-on
 e-2
URL:https://incontro-ducati.de/events/we-ride-as-one-2
END:VEVENT
END:VCALENDAR