BEGIN:VCALENDAR
VERSION:2.0
PRODID:-//eventon.com NONSGML v1.0//EN
CALSCALE:GREGORIAN
METHOD:PUBLISH
BEGIN:VEVENT
UID:69e74f9211aee
DTSTAMP:20260421T102106Z
DTSTART:20260526
DTEND:20260527
LOCATION:
SUMMARY:Race Camp Anneau du Rhin
DESCRIPTION:Termin in Vorbereitung\nhttps://incontro-ducati.de/events/race-
 camp-anneau-du-rhin
URL:https://incontro-ducati.de/events/race-camp-anneau-du-rhin
END:VEVENT
END:VCALENDAR