BEGIN:VCALENDAR
VERSION:2.0
PRODID:-//eventon.com NONSGML v1.0//EN
CALSCALE:GREGORIAN
METHOD:PUBLISH
BEGIN:VEVENT
UID:69e785447950d
DTSTAMP:20260421T141012Z
DTSTART:20260627
DTEND:20260628
LOCATION:
SUMMARY:Incontro goes Trentino & WDW
DESCRIPTION:27.06.-05.07. 2 Alternativen Trentino Trentino & WDW Verlänger
 ung in Riccione um 1 Nacht individuell möglich Leider schon ausgebucht –
  Warteliste möglich\nhttps://incontro-ducati.de/events/incontro-goes-trent
 ino-wdw
URL:https://incontro-ducati.de/events/incontro-goes-trentino-wdw
END:VEVENT
END:VCALENDAR