BEGIN:VCALENDAR
VERSION:2.0
PRODID:-//eventon.com NONSGML v1.0//EN
CALSCALE:GREGORIAN
METHOD:PUBLISH
BEGIN:VEVENT
UID:69e74f7007db4
DTSTAMP:20260421T102032Z
DTSTART:20260831
DTEND:20260901
LOCATION:
SUMMARY:Girls Race Camp Groß Dölln
DESCRIPTION:Girls Race Camp Groß Dölln\nhttps://incontro-ducati.de/events
 /girls-race-camp-gross-doelln
URL:https://incontro-ducati.de/events/girls-race-camp-gross-doelln
END:VEVENT
END:VCALENDAR