BEGIN:VCALENDAR
VERSION:2.0
PRODID:-//eventon.com NONSGML v1.0//EN
CALSCALE:GREGORIAN
METHOD:PUBLISH
BEGIN:VEVENT
UID:69e750edc4965
DTSTAMP:20260421T102653Z
DTSTART:20260807
DTEND:20260808
LOCATION:
SUMMARY:Siegerland Tour
DESCRIPTION:Termin in Vorbereitung\nhttps://incontro-ducati.de/events/siege
 rland-tour
URL:https://incontro-ducati.de/events/siegerland-tour
END:VEVENT
END:VCALENDAR