BEGIN:VCALENDAR
VERSION:2.0
PRODID:-//eventon.com NONSGML v1.0//EN
CALSCALE:GREGORIAN
METHOD:PUBLISH
BEGIN:VEVENT
UID:69e74fd213a33
DTSTAMP:20260421T102210Z
DTSTART:20260213T170000Z
DTEND:20260213T220000Z
LOCATION:
SUMMARY:Incontro Ducati Stammtisch
DESCRIPTION:Incontro Ducati Stammtisch\nhttps://incontro-ducati.de/events/i
 ncontro-ducati-stammtisch-14
URL:https://incontro-ducati.de/events/incontro-ducati-stammtisch-14
END:VEVENT
END:VCALENDAR